Workbook

Sheet How to use
A1: Real Estate Transaction Tracker - Paperless Pipeline
A3: 1. Transactions tab: add one row per deal. Pick Side and Status from the dropdowns.
A4: 2. Days to close is calculated for you from the Closing date.
A5: 3. Critical dates tab: one row per deadline (inspection, appraisal, financing, closing). Days left and Flag are calculated.
A6: 4. Contacts tab: one row per person on a deal. Use the same Deal ID so you can filter by deal.
A7: 5. Summary tab counts deals by status and adds up volume and commission.
A8: 6. Use the filter arrows in each header row to filter by city, agent, status or deal.
A9: The sample rows are made-up examples. Delete them before you start.
A11: Outgrowing the spreadsheet? Try Paperless Pipeline free: https://www.paperlesspipeline.com

Sheet Transactions
A1: Deal ID | B1: Property address | C1: City | D1: State | E1: Side | F1: Status | G1: Agent | H1: Client | I1: Sale price ($) | J1: Commission rate | K1: Gross commission ($) | L1: Contract date | M1: Closing date | N1: Days to close | O1: Notes
A2: D-001 | B2: 123 Sample St | C2: Austin | D2: TX | E2: Buyer | F2: Pending | G2: Sample Agent | H2: Sample Client | I2: 450000 | J2: 0.03 | K2: =IF(I2="","",I2*J2) | L2: 46296 | M2: 46340 | N2: =IF(M2="","",M2-TODAY())
A3: D-002 | B3: 456 Example Ave | C3: Dallas | D3: TX | E3: Listing | F3: Active | G3: Sample Agent | H3: Sample Client | I3: 325000 | J3: 0.025 | K3: =IF(I3="","",I3*J3) | L3: 46300 | M3: 46357 | N3: =IF(M3="","",M3-TODAY())
K4: =IF(I4="","",I4*J4) | N4: =IF(M4="","",M4-TODAY())
K5: =IF(I5="","",I5*J5) | N5: =IF(M5="","",M5-TODAY())
K6: =IF(I6="","",I6*J6) | N6: =IF(M6="","",M6-TODAY())
K7: =IF(I7="","",I7*J7) | N7: =IF(M7="","",M7-TODAY())
K8: =IF(I8="","",I8*J8) | N8: =IF(M8="","",M8-TODAY())
K9: =IF(I9="","",I9*J9) | N9: =IF(M9="","",M9-TODAY())
K10: =IF(I10="","",I10*J10) | N10: =IF(M10="","",M10-TODAY())
K11: =IF(I11="","",I11*J11) | N11: =IF(M11="","",M11-TODAY())
K12: =IF(I12="","",I12*J12) | N12: =IF(M12="","",M12-TODAY())
K13: =IF(I13="","",I13*J13) | N13: =IF(M13="","",M13-TODAY())
K14: =IF(I14="","",I14*J14) | N14: =IF(M14="","",M14-TODAY())
K15: =IF(I15="","",I15*J15) | N15: =IF(M15="","",M15-TODAY())
... K201: =IF(I201="","",I201*J201) | N201: =IF(M201="","",M201-TODAY())

Sheet Critical dates
A1: Deal ID | B1: Deadline | C1: Due date | D1: Owner | E1: Done? (Y/N) | F1: Days left | G1: Flag
A2: D-001 | B2: Inspection period ends | C2: 46306 | D2: Sample Agent | E2: Y | F2: =IF(C2="","",C2-TODAY()) | G2: =IF(C2="","",IF(E2="Y","Done",IF(F2<0,"Overdue",IF(F2<=3,"Due soon",""))))
A3: D-001 | B3: Financing deadline | C3: 46326 | D3: Sample Agent | E3: N | F3: =IF(C3="","",C3-TODAY()) | G3: =IF(C3="","",IF(E3="Y","Done",IF(F3<0,"Overdue",IF(F3<=3,"Due soon",""))))
A4: D-001 | B4: Closing | C4: 46340 | D4: Sample Agent | E4: N | F4: =IF(C4="","",C4-TODAY()) | G4: =IF(C4="","",IF(E4="Y","Done",IF(F4<0,"Overdue",IF(F4<=3,"Due soon",""))))
F5: =IF(C5="","",C5-TODAY()) | G5: =IF(C5="","",IF(E5="Y","Done",IF(F5<0,"Overdue",IF(F5<=3,"Due soon",""))))
F6: =IF(C6="","",C6-TODAY()) | G6: =IF(C6="","",IF(E6="Y","Done",IF(F6<0,"Overdue",IF(F6<=3,"Due soon",""))))
F7: =IF(C7="","",C7-TODAY()) | G7: =IF(C7="","",IF(E7="Y","Done",IF(F7<0,"Overdue",IF(F7<=3,"Due soon",""))))
F8: =IF(C8="","",C8-TODAY()) | G8: =IF(C8="","",IF(E8="Y","Done",IF(F8<0,"Overdue",IF(F8<=3,"Due soon",""))))
F9: =IF(C9="","",C9-TODAY()) | G9: =IF(C9="","",IF(E9="Y","Done",IF(F9<0,"Overdue",IF(F9<=3,"Due soon",""))))
F10: =IF(C10="","",C10-TODAY()) | G10: =IF(C10="","",IF(E10="Y","Done",IF(F10<0,"Overdue",IF(F10<=3,"Due soon",""))))
F11: =IF(C11="","",C11-TODAY()) | G11: =IF(C11="","",IF(E11="Y","Done",IF(F11<0,"Overdue",IF(F11<=3,"Due soon",""))))
F12: =IF(C12="","",C12-TODAY()) | G12: =IF(C12="","",IF(E12="Y","Done",IF(F12<0,"Overdue",IF(F12<=3,"Due soon",""))))
F13: =IF(C13="","",C13-TODAY()) | G13: =IF(C13="","",IF(E13="Y","Done",IF(F13<0,"Overdue",IF(F13<=3,"Due soon",""))))
F14: =IF(C14="","",C14-TODAY()) | G14: =IF(C14="","",IF(E14="Y","Done",IF(F14<0,"Overdue",IF(F14<=3,"Due soon",""))))
F15: =IF(C15="","",C15-TODAY()) | G15: =IF(C15="","",IF(E15="Y","Done",IF(F15<0,"Overdue",IF(F15<=3,"Due soon",""))))
F16: =IF(C16="","",C16-TODAY()) | G16: =IF(C16="","",IF(E16="Y","Done",IF(F16<0,"Overdue",IF(F16<=3,"Due soon",""))))
... F301: =IF(C301="","",C301-TODAY()) | G301: =IF(C301="","",IF(E301="Y","Done",IF(F301<0,"Overdue",IF(F301<=3,"Due soon",""))))

Sheet Contacts
A1: Deal ID | B1: Role | C1: Name | D1: Company | E1: Phone | F1: Email
A2: D-001 | B2: Buyer | C2: Sample Client | E2: 555-0100 | F2: client@example.com
A3: D-001 | B3: Title | C3: Sample Title Officer | D3: Sample Title Co. | E3: 555-0101 | F3: title@example.com
A4: D-001 | B4: Lender | C4: Sample Loan Officer | D4: Sample Bank | E4: 555-0102 | F4: lender@example.com

Sheet Summary
A1: Status | B1: Deals | C1: Sale volume ($) | D1: Gross commission ($)
A2: Active | B2: =COUNTIF(Transactions!F:F,A2) | C2: =SUMIF(Transactions!F:F,A2,Transactions!I:I) | D2: =SUMIF(Transactions!F:F,A2,Transactions!K:K)
A3: Pending | B3: =COUNTIF(Transactions!F:F,A3) | C3: =SUMIF(Transactions!F:F,A3,Transactions!I:I) | D3: =SUMIF(Transactions!F:F,A3,Transactions!K:K)
A4: Closed | B4: =COUNTIF(Transactions!F:F,A4) | C4: =SUMIF(Transactions!F:F,A4,Transactions!I:I) | D4: =SUMIF(Transactions!F:F,A4,Transactions!K:K)
A5: Cancelled | B5: =COUNTIF(Transactions!F:F,A5) | C5: =SUMIF(Transactions!F:F,A5,Transactions!I:I) | D5: =SUMIF(Transactions!F:F,A5,Transactions!K:K)
A6: Total | B6: =SUM(B2:B5) | C6: =SUM(C2:C5) | D6: =SUM(D2:D5)
